BEGIN:VCALENDAR
VERSION:2.0
PRODID:-//First Presbyterian Church PCA - ECPv6.15.20//NONSGML v1.0//EN
CALSCALE:GREGORIAN
METHOD:PUBLISH
X-ORIGINAL-URL:https://ellerbechurch.org
X-WR-CALDESC:Events for First Presbyterian Church PCA
REFRESH-INTERVAL;VALUE=DURATION:PT1H
X-Robots-Tag:noindex
X-PUBLISHED-TTL:PT1H
BEGIN:VTIMEZONE
TZID:America/New_York
BEGIN:DAYLIGHT
TZOFFSETFROM:-0500
TZOFFSETTO:-0400
TZNAME:EDT
DTSTART:20250309T070000
END:DAYLIGHT
BEGIN:STANDARD
TZOFFSETFROM:-0400
TZOFFSETTO:-0500
TZNAME:EST
DTSTART:20251102T060000
END:STANDARD
BEGIN:DAYLIGHT
TZOFFSETFROM:-0500
TZOFFSETTO:-0400
TZNAME:EDT
DTSTART:20260308T070000
END:DAYLIGHT
BEGIN:STANDARD
TZOFFSETFROM:-0400
TZOFFSETTO:-0500
TZNAME:EST
DTSTART:20261101T060000
END:STANDARD
BEGIN:DAYLIGHT
TZOFFSETFROM:-0500
TZOFFSETTO:-0400
TZNAME:EDT
DTSTART:20270314T070000
END:DAYLIGHT
BEGIN:STANDARD
TZOFFSETFROM:-0400
TZOFFSETTO:-0500
TZNAME:EST
DTSTART:20271107T060000
END:STANDARD
END:VTIMEZONE
BEGIN:VEVENT
DTSTART;TZID=America/New_York:20260201T100000
DTEND;TZID=America/New_York:20260201T100000
DTSTAMP:20260420T185215
CREATED:20250603T121734Z
LAST-MODIFIED:20250603T180444Z
UID:10000038-1769940000-1769940000@ellerbechurch.org
SUMMARY:Sunday School Assembly
DESCRIPTION:Meets in the sanctuary.
URL:https://ellerbechurch.org/event/sunday-school-assembly/2026-02-01/
LOCATION:First Presbyterian Church PCA\, 133 W. Ballard St.\, Ellerbe\, NC\, 28338\, United States
END:VEVENT
BEGIN:VEVENT
DTSTART;TZID=America/New_York:20260201T101500
DTEND;TZID=America/New_York:20260201T101500
DTSTAMP:20260420T185215
CREATED:20250603T121853Z
LAST-MODIFIED:20250613T155711Z
UID:10000299-1769940900-1769940900@ellerbechurch.org
SUMMARY:Sunday School Classes
DESCRIPTION:Meets in the fellowship hall & main building classrooms.
URL:https://ellerbechurch.org/event/sunday-school-classes/2026-02-01/
LOCATION:First Presbyterian Church PCA\, 133 W. Ballard St.\, Ellerbe\, NC\, 28338\, United States
CATEGORIES:Community
END:VEVENT
BEGIN:VEVENT
DTSTART;TZID=America/New_York:20260201T110000
DTEND;TZID=America/New_York:20260201T110000
DTSTAMP:20260420T185215
CREATED:20250603T122010Z
LAST-MODIFIED:20250613T155327Z
UID:10000560-1769943600-1769943600@ellerbechurch.org
SUMMARY:Worship Service
DESCRIPTION:Meets in the sanctuary.
URL:https://ellerbechurch.org/event/worship-service/2026-02-01/
LOCATION:First Presbyterian Church PCA\, 133 W. Ballard St.\, Ellerbe\, NC\, 28338\, United States
CATEGORIES:Community
END:VEVENT
BEGIN:VEVENT
DTSTART;TZID=America/New_York:20260204T190000
DTEND;TZID=America/New_York:20260204T200000
DTSTAMP:20260420T185215
CREATED:20251209T225827Z
LAST-MODIFIED:20251209T225834Z
UID:10001131-1770231600-1770235200@ellerbechurch.org
SUMMARY:Deacons Meeting
DESCRIPTION:
URL:https://ellerbechurch.org/event/deacons-meeting-4/2026-02-04/
END:VEVENT
BEGIN:VEVENT
DTSTART;TZID=America/New_York:20260208T100000
DTEND;TZID=America/New_York:20260208T100000
DTSTAMP:20260420T185215
CREATED:20250603T121734Z
LAST-MODIFIED:20250603T180444Z
UID:10000039-1770544800-1770544800@ellerbechurch.org
SUMMARY:Sunday School Assembly
DESCRIPTION:Meets in the sanctuary.
URL:https://ellerbechurch.org/event/sunday-school-assembly/2026-02-08/
LOCATION:First Presbyterian Church PCA\, 133 W. Ballard St.\, Ellerbe\, NC\, 28338\, United States
END:VEVENT
BEGIN:VEVENT
DTSTART;TZID=America/New_York:20260208T101500
DTEND;TZID=America/New_York:20260208T101500
DTSTAMP:20260420T185215
CREATED:20250603T121853Z
LAST-MODIFIED:20250613T155711Z
UID:10000300-1770545700-1770545700@ellerbechurch.org
SUMMARY:Sunday School Classes
DESCRIPTION:Meets in the fellowship hall & main building classrooms.
URL:https://ellerbechurch.org/event/sunday-school-classes/2026-02-08/
LOCATION:First Presbyterian Church PCA\, 133 W. Ballard St.\, Ellerbe\, NC\, 28338\, United States
CATEGORIES:Community
END:VEVENT
BEGIN:VEVENT
DTSTART;TZID=America/New_York:20260208T110000
DTEND;TZID=America/New_York:20260208T110000
DTSTAMP:20260420T185215
CREATED:20250603T122010Z
LAST-MODIFIED:20250613T155327Z
UID:10000561-1770548400-1770548400@ellerbechurch.org
SUMMARY:Worship Service
DESCRIPTION:Meets in the sanctuary.
URL:https://ellerbechurch.org/event/worship-service/2026-02-08/
LOCATION:First Presbyterian Church PCA\, 133 W. Ballard St.\, Ellerbe\, NC\, 28338\, United States
CATEGORIES:Community
END:VEVENT
BEGIN:VEVENT
DTSTART;TZID=America/New_York:20260211T190000
DTEND;TZID=America/New_York:20260211T210000
DTSTAMP:20260420T185215
CREATED:20250621T154008Z
LAST-MODIFIED:20250621T154011Z
UID:10001057-1770836400-1770843600@ellerbechurch.org
SUMMARY:Session Meeting
DESCRIPTION:
URL:https://ellerbechurch.org/event/session-meeting/2026-02-11/
LOCATION:First Presbyterian Church PCA – Fellowship Hall\, 133 Ballard Street\, Ellerbe\, North Carolina\, 28338\, United States
END:VEVENT
BEGIN:VEVENT
DTSTART;TZID=America/New_York:20260215T100000
DTEND;TZID=America/New_York:20260215T100000
DTSTAMP:20260420T185215
CREATED:20250603T121734Z
LAST-MODIFIED:20250603T180444Z
UID:10000040-1771149600-1771149600@ellerbechurch.org
SUMMARY:Sunday School Assembly
DESCRIPTION:Meets in the sanctuary.
URL:https://ellerbechurch.org/event/sunday-school-assembly/2026-02-15/
LOCATION:First Presbyterian Church PCA\, 133 W. Ballard St.\, Ellerbe\, NC\, 28338\, United States
END:VEVENT
BEGIN:VEVENT
DTSTART;TZID=America/New_York:20260215T101500
DTEND;TZID=America/New_York:20260215T101500
DTSTAMP:20260420T185215
CREATED:20250603T121853Z
LAST-MODIFIED:20250613T155711Z
UID:10000301-1771150500-1771150500@ellerbechurch.org
SUMMARY:Sunday School Classes
DESCRIPTION:Meets in the fellowship hall & main building classrooms.
URL:https://ellerbechurch.org/event/sunday-school-classes/2026-02-15/
LOCATION:First Presbyterian Church PCA\, 133 W. Ballard St.\, Ellerbe\, NC\, 28338\, United States
CATEGORIES:Community
END:VEVENT
BEGIN:VEVENT
DTSTART;TZID=America/New_York:20260215T110000
DTEND;TZID=America/New_York:20260215T110000
DTSTAMP:20260420T185215
CREATED:20250603T122010Z
LAST-MODIFIED:20250613T155327Z
UID:10000562-1771153200-1771153200@ellerbechurch.org
SUMMARY:Worship Service
DESCRIPTION:Meets in the sanctuary.
URL:https://ellerbechurch.org/event/worship-service/2026-02-15/
LOCATION:First Presbyterian Church PCA\, 133 W. Ballard St.\, Ellerbe\, NC\, 28338\, United States
CATEGORIES:Community
END:VEVENT
BEGIN:VEVENT
DTSTART;TZID=America/New_York:20260222T100000
DTEND;TZID=America/New_York:20260222T100000
DTSTAMP:20260420T185215
CREATED:20250603T121734Z
LAST-MODIFIED:20250603T180444Z
UID:10000041-1771754400-1771754400@ellerbechurch.org
SUMMARY:Sunday School Assembly
DESCRIPTION:Meets in the sanctuary.
URL:https://ellerbechurch.org/event/sunday-school-assembly/2026-02-22/
LOCATION:First Presbyterian Church PCA\, 133 W. Ballard St.\, Ellerbe\, NC\, 28338\, United States
END:VEVENT
BEGIN:VEVENT
DTSTART;TZID=America/New_York:20260222T101500
DTEND;TZID=America/New_York:20260222T101500
DTSTAMP:20260420T185215
CREATED:20250603T121853Z
LAST-MODIFIED:20250613T155711Z
UID:10000302-1771755300-1771755300@ellerbechurch.org
SUMMARY:Sunday School Classes
DESCRIPTION:Meets in the fellowship hall & main building classrooms.
URL:https://ellerbechurch.org/event/sunday-school-classes/2026-02-22/
LOCATION:First Presbyterian Church PCA\, 133 W. Ballard St.\, Ellerbe\, NC\, 28338\, United States
CATEGORIES:Community
END:VEVENT
BEGIN:VEVENT
DTSTART;TZID=America/New_York:20260222T110000
DTEND;TZID=America/New_York:20260222T110000
DTSTAMP:20260420T185215
CREATED:20250603T122010Z
LAST-MODIFIED:20250613T155327Z
UID:10000563-1771758000-1771758000@ellerbechurch.org
SUMMARY:Worship Service
DESCRIPTION:Meets in the sanctuary.
URL:https://ellerbechurch.org/event/worship-service/2026-02-22/
LOCATION:First Presbyterian Church PCA\, 133 W. Ballard St.\, Ellerbe\, NC\, 28338\, United States
CATEGORIES:Community
END:VEVENT
END:VCALENDAR