BEGIN:VCALENDAR
VERSION:2.0
PRODID:-//First Presbyterian Church PCA - ECPv6.15.20//NONSGML v1.0//EN
CALSCALE:GREGORIAN
METHOD:PUBLISH
X-ORIGINAL-URL:https://ellerbechurch.org
X-WR-CALDESC:Events for First Presbyterian Church PCA
REFRESH-INTERVAL;VALUE=DURATION:PT1H
X-Robots-Tag:noindex
X-PUBLISHED-TTL:PT1H
BEGIN:VTIMEZONE
TZID:America/New_York
BEGIN:DAYLIGHT
TZOFFSETFROM:-0500
TZOFFSETTO:-0400
TZNAME:EDT
DTSTART:20250309T070000
END:DAYLIGHT
BEGIN:STANDARD
TZOFFSETFROM:-0400
TZOFFSETTO:-0500
TZNAME:EST
DTSTART:20251102T060000
END:STANDARD
BEGIN:DAYLIGHT
TZOFFSETFROM:-0500
TZOFFSETTO:-0400
TZNAME:EDT
DTSTART:20260308T070000
END:DAYLIGHT
BEGIN:STANDARD
TZOFFSETFROM:-0400
TZOFFSETTO:-0500
TZNAME:EST
DTSTART:20261101T060000
END:STANDARD
BEGIN:DAYLIGHT
TZOFFSETFROM:-0500
TZOFFSETTO:-0400
TZNAME:EDT
DTSTART:20270314T070000
END:DAYLIGHT
BEGIN:STANDARD
TZOFFSETFROM:-0400
TZOFFSETTO:-0500
TZNAME:EST
DTSTART:20271107T060000
END:STANDARD
END:VTIMEZONE
BEGIN:VEVENT
DTSTART;TZID=America/New_York:20260301T100000
DTEND;TZID=America/New_York:20260301T100000
DTSTAMP:20260420T153004
CREATED:20250603T121734Z
LAST-MODIFIED:20250603T180444Z
UID:10000042-1772359200-1772359200@ellerbechurch.org
SUMMARY:Sunday School Assembly
DESCRIPTION:Meets in the sanctuary.
URL:https://ellerbechurch.org/event/sunday-school-assembly/2026-03-01/
LOCATION:First Presbyterian Church PCA\, 133 W. Ballard St.\, Ellerbe\, NC\, 28338\, United States
END:VEVENT
BEGIN:VEVENT
DTSTART;TZID=America/New_York:20260301T101500
DTEND;TZID=America/New_York:20260301T101500
DTSTAMP:20260420T153004
CREATED:20250603T121853Z
LAST-MODIFIED:20250613T155711Z
UID:10000303-1772360100-1772360100@ellerbechurch.org
SUMMARY:Sunday School Classes
DESCRIPTION:Meets in the fellowship hall & main building classrooms.
URL:https://ellerbechurch.org/event/sunday-school-classes/2026-03-01/
LOCATION:First Presbyterian Church PCA\, 133 W. Ballard St.\, Ellerbe\, NC\, 28338\, United States
CATEGORIES:Community
END:VEVENT
BEGIN:VEVENT
DTSTART;TZID=America/New_York:20260301T110000
DTEND;TZID=America/New_York:20260301T110000
DTSTAMP:20260420T153004
CREATED:20250603T122010Z
LAST-MODIFIED:20250613T155327Z
UID:10000564-1772362800-1772362800@ellerbechurch.org
SUMMARY:Worship Service
DESCRIPTION:Meets in the sanctuary.
URL:https://ellerbechurch.org/event/worship-service/2026-03-01/
LOCATION:First Presbyterian Church PCA\, 133 W. Ballard St.\, Ellerbe\, NC\, 28338\, United States
CATEGORIES:Community
END:VEVENT
BEGIN:VEVENT
DTSTART;TZID=America/New_York:20260304T190000
DTEND;TZID=America/New_York:20260304T200000
DTSTAMP:20260420T153004
CREATED:20251209T225827Z
LAST-MODIFIED:20251209T225834Z
UID:10001132-1772650800-1772654400@ellerbechurch.org
SUMMARY:Deacons Meeting
DESCRIPTION:
URL:https://ellerbechurch.org/event/deacons-meeting-4/2026-03-04/
END:VEVENT
BEGIN:VEVENT
DTSTART;TZID=America/New_York:20260308T100000
DTEND;TZID=America/New_York:20260308T100000
DTSTAMP:20260420T153004
CREATED:20250603T121734Z
LAST-MODIFIED:20250603T180444Z
UID:10000043-1772964000-1772964000@ellerbechurch.org
SUMMARY:Sunday School Assembly
DESCRIPTION:Meets in the sanctuary.
URL:https://ellerbechurch.org/event/sunday-school-assembly/2026-03-08/
LOCATION:First Presbyterian Church PCA\, 133 W. Ballard St.\, Ellerbe\, NC\, 28338\, United States
END:VEVENT
BEGIN:VEVENT
DTSTART;TZID=America/New_York:20260308T101500
DTEND;TZID=America/New_York:20260308T101500
DTSTAMP:20260420T153004
CREATED:20250603T121853Z
LAST-MODIFIED:20250613T155711Z
UID:10000304-1772964900-1772964900@ellerbechurch.org
SUMMARY:Sunday School Classes
DESCRIPTION:Meets in the fellowship hall & main building classrooms.
URL:https://ellerbechurch.org/event/sunday-school-classes/2026-03-08/
LOCATION:First Presbyterian Church PCA\, 133 W. Ballard St.\, Ellerbe\, NC\, 28338\, United States
CATEGORIES:Community
END:VEVENT
BEGIN:VEVENT
DTSTART;TZID=America/New_York:20260308T110000
DTEND;TZID=America/New_York:20260308T110000
DTSTAMP:20260420T153004
CREATED:20250603T122010Z
LAST-MODIFIED:20250613T155327Z
UID:10000565-1772967600-1772967600@ellerbechurch.org
SUMMARY:Worship Service
DESCRIPTION:Meets in the sanctuary.
URL:https://ellerbechurch.org/event/worship-service/2026-03-08/
LOCATION:First Presbyterian Church PCA\, 133 W. Ballard St.\, Ellerbe\, NC\, 28338\, United States
CATEGORIES:Community
END:VEVENT
BEGIN:VEVENT
DTSTART;TZID=America/New_York:20260311T190000
DTEND;TZID=America/New_York:20260311T210000
DTSTAMP:20260420T153004
CREATED:20250621T154008Z
LAST-MODIFIED:20250621T154011Z
UID:10001058-1773255600-1773262800@ellerbechurch.org
SUMMARY:Session Meeting
DESCRIPTION:
URL:https://ellerbechurch.org/event/session-meeting/2026-03-11/
LOCATION:First Presbyterian Church PCA – Fellowship Hall\, 133 Ballard Street\, Ellerbe\, North Carolina\, 28338\, United States
END:VEVENT
BEGIN:VEVENT
DTSTART;TZID=America/New_York:20260315T100000
DTEND;TZID=America/New_York:20260315T100000
DTSTAMP:20260420T153004
CREATED:20250603T121734Z
LAST-MODIFIED:20250603T180444Z
UID:10000044-1773568800-1773568800@ellerbechurch.org
SUMMARY:Sunday School Assembly
DESCRIPTION:Meets in the sanctuary.
URL:https://ellerbechurch.org/event/sunday-school-assembly/2026-03-15/
LOCATION:First Presbyterian Church PCA\, 133 W. Ballard St.\, Ellerbe\, NC\, 28338\, United States
END:VEVENT
BEGIN:VEVENT
DTSTART;TZID=America/New_York:20260315T101500
DTEND;TZID=America/New_York:20260315T101500
DTSTAMP:20260420T153004
CREATED:20250603T121853Z
LAST-MODIFIED:20250613T155711Z
UID:10000305-1773569700-1773569700@ellerbechurch.org
SUMMARY:Sunday School Classes
DESCRIPTION:Meets in the fellowship hall & main building classrooms.
URL:https://ellerbechurch.org/event/sunday-school-classes/2026-03-15/
LOCATION:First Presbyterian Church PCA\, 133 W. Ballard St.\, Ellerbe\, NC\, 28338\, United States
CATEGORIES:Community
END:VEVENT
BEGIN:VEVENT
DTSTART;TZID=America/New_York:20260315T110000
DTEND;TZID=America/New_York:20260315T110000
DTSTAMP:20260420T153004
CREATED:20250603T122010Z
LAST-MODIFIED:20250613T155327Z
UID:10000566-1773572400-1773572400@ellerbechurch.org
SUMMARY:Worship Service
DESCRIPTION:Meets in the sanctuary.
URL:https://ellerbechurch.org/event/worship-service/2026-03-15/
LOCATION:First Presbyterian Church PCA\, 133 W. Ballard St.\, Ellerbe\, NC\, 28338\, United States
CATEGORIES:Community
END:VEVENT
BEGIN:VEVENT
DTSTART;TZID=America/New_York:20260322T100000
DTEND;TZID=America/New_York:20260322T100000
DTSTAMP:20260420T153004
CREATED:20250603T121734Z
LAST-MODIFIED:20250603T180444Z
UID:10000045-1774173600-1774173600@ellerbechurch.org
SUMMARY:Sunday School Assembly
DESCRIPTION:Meets in the sanctuary.
URL:https://ellerbechurch.org/event/sunday-school-assembly/2026-03-22/
LOCATION:First Presbyterian Church PCA\, 133 W. Ballard St.\, Ellerbe\, NC\, 28338\, United States
END:VEVENT
BEGIN:VEVENT
DTSTART;TZID=America/New_York:20260322T101500
DTEND;TZID=America/New_York:20260322T101500
DTSTAMP:20260420T153004
CREATED:20250603T121853Z
LAST-MODIFIED:20250613T155711Z
UID:10000306-1774174500-1774174500@ellerbechurch.org
SUMMARY:Sunday School Classes
DESCRIPTION:Meets in the fellowship hall & main building classrooms.
URL:https://ellerbechurch.org/event/sunday-school-classes/2026-03-22/
LOCATION:First Presbyterian Church PCA\, 133 W. Ballard St.\, Ellerbe\, NC\, 28338\, United States
CATEGORIES:Community
END:VEVENT
BEGIN:VEVENT
DTSTART;TZID=America/New_York:20260322T110000
DTEND;TZID=America/New_York:20260322T110000
DTSTAMP:20260420T153004
CREATED:20250603T122010Z
LAST-MODIFIED:20250613T155327Z
UID:10000567-1774177200-1774177200@ellerbechurch.org
SUMMARY:Worship Service
DESCRIPTION:Meets in the sanctuary.
URL:https://ellerbechurch.org/event/worship-service/2026-03-22/
LOCATION:First Presbyterian Church PCA\, 133 W. Ballard St.\, Ellerbe\, NC\, 28338\, United States
CATEGORIES:Community
END:VEVENT
BEGIN:VEVENT
DTSTART;TZID=America/New_York:20260328T110000
DTEND;TZID=America/New_York:20260328T130000
DTSTAMP:20260420T153004
CREATED:20260309T144604Z
LAST-MODIFIED:20260309T144610Z
UID:10001193-1774695600-1774702800@ellerbechurch.org
SUMMARY:Easter Egg Hunt
DESCRIPTION:Easter Egg Hunt and Scavenger Hunt  Pizza
URL:https://ellerbechurch.org/event/easter-egg-hunt/
END:VEVENT
BEGIN:VEVENT
DTSTART;TZID=America/New_York:20260329T100000
DTEND;TZID=America/New_York:20260329T100000
DTSTAMP:20260420T153004
CREATED:20250603T121734Z
LAST-MODIFIED:20250603T180444Z
UID:10000046-1774778400-1774778400@ellerbechurch.org
SUMMARY:Sunday School Assembly
DESCRIPTION:Meets in the sanctuary.
URL:https://ellerbechurch.org/event/sunday-school-assembly/2026-03-29/
LOCATION:First Presbyterian Church PCA\, 133 W. Ballard St.\, Ellerbe\, NC\, 28338\, United States
END:VEVENT
BEGIN:VEVENT
DTSTART;TZID=America/New_York:20260329T101500
DTEND;TZID=America/New_York:20260329T101500
DTSTAMP:20260420T153004
CREATED:20250603T121853Z
LAST-MODIFIED:20250613T155711Z
UID:10000307-1774779300-1774779300@ellerbechurch.org
SUMMARY:Sunday School Classes
DESCRIPTION:Meets in the fellowship hall & main building classrooms.
URL:https://ellerbechurch.org/event/sunday-school-classes/2026-03-29/
LOCATION:First Presbyterian Church PCA\, 133 W. Ballard St.\, Ellerbe\, NC\, 28338\, United States
CATEGORIES:Community
END:VEVENT
BEGIN:VEVENT
DTSTART;TZID=America/New_York:20260329T110000
DTEND;TZID=America/New_York:20260329T110000
DTSTAMP:20260420T153004
CREATED:20250603T122010Z
LAST-MODIFIED:20250613T155327Z
UID:10000568-1774782000-1774782000@ellerbechurch.org
SUMMARY:Worship Service
DESCRIPTION:Meets in the sanctuary.
URL:https://ellerbechurch.org/event/worship-service/2026-03-29/
LOCATION:First Presbyterian Church PCA\, 133 W. Ballard St.\, Ellerbe\, NC\, 28338\, United States
CATEGORIES:Community
END:VEVENT
END:VCALENDAR